BEGIN:VCALENDAR
VERSION:2.0
PRODID:-//https://www.kiga-schwanfeld.de///NONSGML kigkonsult.se iCalcreator 2.10.15//
METHOD:PUBLISH
BEGIN:VEVENT
UID:20260425T172414CEST-4283aVVLT2@https://www.kiga-schwanfeld.de/
DTSTAMP:20260425T152414Z
DESCRIPTION: https://www.kiga-schwanfeld.de/aktuelles/kalender/event/31-fre
 itag-vor-sommerferien
DTSTART:20240809T050000Z
DTEND:20240809T100000Z
LOCATION:KiGa Schwanfeld (Adenauerpl. 8\, 97523 Schwanfeld\, Deutschland)
SUMMARY:Freitag vor Sommerferien
URL:https://www.kiga-schwanfeld.de/aktuelles/kalender/event/31-freitag-vor-
 sommerferien
END:VEVENT
END:VCALENDAR
