BEGIN:VCALENDAR
VERSION:2.0
PRODID:-//https://www.kiga-schwanfeld.de///NONSGML kigkonsult.se iCalcreator 2.10.15//
METHOD:PUBLISH
BEGIN:VEVENT
UID:20260425T140003CEST-9187e3Vs1s@https://www.kiga-schwanfeld.de/
DTSTAMP:20260425T120003Z
DESCRIPTION: https://www.kiga-schwanfeld.de/aktuelles/kalender/event/34-som
 merferien
DTSTART;VALUE=DATE:20240814
LOCATION:KiGa Schwanfeld (Adenauerpl. 8\, 97523 Schwanfeld\, Deutschland)
SUMMARY:Sommerferien 
URL:https://www.kiga-schwanfeld.de/aktuelles/kalender/event/34-sommerferien
END:VEVENT
END:VCALENDAR
