BEGIN:VCALENDAR
VERSION:2.0
PRODID:-//https://www.kiga-schwanfeld.de///NONSGML kigkonsult.se iCalcreator 2.10.15//
METHOD:PUBLISH
BEGIN:VEVENT
UID:20260425T135241CEST-1535sulkUC@https://www.kiga-schwanfeld.de/
DTSTAMP:20260425T115241Z
DESCRIPTION: https://www.kiga-schwanfeld.de/aktuelles/kalender/event/37-som
 merferien
DTSTART;VALUE=DATE:20240819
LOCATION:KiGa Schwanfeld (Adenauerpl. 8\, 97523 Schwanfeld\, Deutschland)
SUMMARY:Sommerferien 
URL:https://www.kiga-schwanfeld.de/aktuelles/kalender/event/37-sommerferien
END:VEVENT
END:VCALENDAR
