BEGIN:VCALENDAR
VERSION:2.0
PRODID:-//https://www.kiga-schwanfeld.de///NONSGML kigkonsult.se iCalcreator 2.10.15//
METHOD:PUBLISH
BEGIN:VEVENT
UID:20260425T122359CEST-0804z4H1kd@https://www.kiga-schwanfeld.de/
DTSTAMP:20260425T102359Z
DESCRIPTION: https://www.kiga-schwanfeld.de/aktuelles/kalender/event/44-som
 merferien
DTSTART;VALUE=DATE:20240828
LOCATION:KiGa Schwanfeld (Adenauerpl. 8\, 97523 Schwanfeld\, Deutschland)
SUMMARY:Sommerferien 
URL:https://www.kiga-schwanfeld.de/aktuelles/kalender/event/44-sommerferien
END:VEVENT
END:VCALENDAR
