BEGIN:VCALENDAR
VERSION:2.0
PRODID:-//https://www.kiga-schwanfeld.de///NONSGML kigkonsult.se iCalcreator 2.10.15//
METHOD:PUBLISH
BEGIN:VEVENT
UID:20260426T023040CEST-50760pRknW@https://www.kiga-schwanfeld.de/
DTSTAMP:20260426T003040Z
DESCRIPTION: https://www.kiga-schwanfeld.de/aktuelles/kalender/event/432-fo
 tografin-im-kindergarten-18-06-19-06-2024
DTSTART:20240618T070000Z
DTEND:20240619T070000Z
LOCATION:KiGa Schwanfeld (Adenauerpl. 8\, 97523 Schwanfeld\, Deutschland)
SUMMARY:Fotografin im Kindergarten (18.06. - 19.06.2024)
URL:https://www.kiga-schwanfeld.de/aktuelles/kalender/event/432-fotografin-
 im-kindergarten-18-06-19-06-2024
END:VEVENT
END:VCALENDAR
