BEGIN:VCALENDAR
VERSION:2.0
PRODID:-//https://www.kiga-schwanfeld.de///NONSGML kigkonsult.se iCalcreator 2.10.15//
METHOD:PUBLISH
BEGIN:VEVENT
UID:20260425T214153CEST-84036j42Lz@https://www.kiga-schwanfeld.de/
DTSTAMP:20260425T194153Z
DESCRIPTION: https://www.kiga-schwanfeld.de/aktuelles/kalender/event/430-bu
 nter-abend-fuer-die-vorschulkinder-internes-fest-18-00-22-30-uhr
DTSTART;VALUE=DATE:20240712
LOCATION:KiGa Schwanfeld (Adenauerpl. 8\, 97523 Schwanfeld\, Deutschland)
SUMMARY:Bunter Abend für die Vorschulkinder (internes Fest) 18:00 - 22:30 U
 hr
URL:https://www.kiga-schwanfeld.de/aktuelles/kalender/event/430-bunter-aben
 d-fuer-die-vorschulkinder-internes-fest-18-00-22-30-uhr
END:VEVENT
END:VCALENDAR
