BEGIN:VCALENDAR
VERSION:2.0
PRODID:-//https://www.kiga-schwanfeld.de///NONSGML kigkonsult.se iCalcreator 2.10.15//
METHOD:PUBLISH
BEGIN:VEVENT
UID:20260425T183435CEST-3053C38p4w@https://www.kiga-schwanfeld.de/
DTSTAMP:20260425T163435Z
DESCRIPTION: https://www.kiga-schwanfeld.de/aktuelles/kalender/event/30-abs
 chlussgottesdienst-mit-anschliessendem-abschlussfest-fuer-die-vorschulkind
 er-ab-14-30-uhr
DTSTART;VALUE=DATE:20240724
LOCATION:KiGa Schwanfeld (Adenauerpl. 8\, 97523 Schwanfeld\, Deutschland)
SUMMARY:Abschlussgottesdienst mit anschließendem Abschlussfest für die Vors
 chulkinder ab 14:30 Uhr
URL:https://www.kiga-schwanfeld.de/aktuelles/kalender/event/30-abschlussgot
 tesdienst-mit-anschliessendem-abschlussfest-fuer-die-vorschulkinder-ab-14-
 30-uhr
END:VEVENT
END:VCALENDAR
