BEGIN:VCALENDAR
VERSION:2.0
PRODID:-//https://www.kiga-schwanfeld.de///NONSGML kigkonsult.se iCalcreator 2.10.15//
METHOD:PUBLISH
BEGIN:VEVENT
UID:20260425T140442CEST-6572bcWZ82@https://www.kiga-schwanfeld.de/
DTSTAMP:20260425T120442Z
DESCRIPTION: https://www.kiga-schwanfeld.de/aktuelles/kalender/event/32-pla
 nungstag-fuer-das-kiga-personal-kiga-geschlossen
DTSTART;VALUE=DATE:20240812
LOCATION:KiGa Schwanfeld (Adenauerpl. 8\, 97523 Schwanfeld\, Deutschland)
SUMMARY:Planungstag für das Kiga Personal - Kiga geschlossen
URL:https://www.kiga-schwanfeld.de/aktuelles/kalender/event/32-planungstag-
 fuer-das-kiga-personal-kiga-geschlossen
END:VEVENT
BEGIN:VEVENT
UID:20260425T140442CEST-6574uTPJ4H@https://www.kiga-schwanfeld.de/
DTSTAMP:20260425T120442Z
DESCRIPTION: https://www.kiga-schwanfeld.de/aktuelles/kalender/event/33-som
 merferien
DTSTART;VALUE=DATE:20240813
LOCATION:KiGa Schwanfeld (Adenauerpl. 8\, 97523 Schwanfeld\, Deutschland)
SUMMARY:Sommerferien 
URL:https://www.kiga-schwanfeld.de/aktuelles/kalender/event/33-sommerferien
END:VEVENT
BEGIN:VEVENT
UID:20260425T140442CEST-65751aXIfv@https://www.kiga-schwanfeld.de/
DTSTAMP:20260425T120442Z
DESCRIPTION: https://www.kiga-schwanfeld.de/aktuelles/kalender/event/34-som
 merferien
DTSTART;VALUE=DATE:20240814
LOCATION:KiGa Schwanfeld (Adenauerpl. 8\, 97523 Schwanfeld\, Deutschland)
SUMMARY:Sommerferien 
URL:https://www.kiga-schwanfeld.de/aktuelles/kalender/event/34-sommerferien
END:VEVENT
BEGIN:VEVENT
UID:20260425T140442CEST-6576BExbbD@https://www.kiga-schwanfeld.de/
DTSTAMP:20260425T120442Z
DESCRIPTION: https://www.kiga-schwanfeld.de/aktuelles/kalender/event/35-som
 merferien
DTSTART;VALUE=DATE:20240815
LOCATION:KiGa Schwanfeld (Adenauerpl. 8\, 97523 Schwanfeld\, Deutschland)
SUMMARY:Sommerferien 
URL:https://www.kiga-schwanfeld.de/aktuelles/kalender/event/35-sommerferien
END:VEVENT
BEGIN:VEVENT
UID:20260425T140442CEST-6577KVNUJZ@https://www.kiga-schwanfeld.de/
DTSTAMP:20260425T120442Z
DESCRIPTION: https://www.kiga-schwanfeld.de/aktuelles/kalender/event/36-som
 merferien
DTSTART;VALUE=DATE:20240816
LOCATION:KiGa Schwanfeld (Adenauerpl. 8\, 97523 Schwanfeld\, Deutschland)
SUMMARY:Sommerferien 
URL:https://www.kiga-schwanfeld.de/aktuelles/kalender/event/36-sommerferien
END:VEVENT
END:VCALENDAR
