BEGIN:VCALENDAR
VERSION:2.0
PRODID:-//https://www.kiga-schwanfeld.de///NONSGML kigkonsult.se iCalcreator 2.10.15//
METHOD:PUBLISH
BEGIN:VEVENT
UID:20260425T122749CEST-5432zRjOnp@https://www.kiga-schwanfeld.de/
DTSTAMP:20260425T102749Z
DESCRIPTION: https://www.kiga-schwanfeld.de/aktuelles/kalender/event/37-som
 merferien
DTSTART;VALUE=DATE:20240819
LOCATION:KiGa Schwanfeld (Adenauerpl. 8\, 97523 Schwanfeld\, Deutschland)
SUMMARY:Sommerferien 
URL:https://www.kiga-schwanfeld.de/aktuelles/kalender/event/37-sommerferien
END:VEVENT
BEGIN:VEVENT
UID:20260425T122749CEST-5434hM66iw@https://www.kiga-schwanfeld.de/
DTSTAMP:20260425T102749Z
DESCRIPTION: https://www.kiga-schwanfeld.de/aktuelles/kalender/event/38-som
 merferien
DTSTART;VALUE=DATE:20240820
LOCATION:KiGa Schwanfeld (Adenauerpl. 8\, 97523 Schwanfeld\, Deutschland)
SUMMARY:Sommerferien 
URL:https://www.kiga-schwanfeld.de/aktuelles/kalender/event/38-sommerferien
END:VEVENT
BEGIN:VEVENT
UID:20260425T122749CEST-5435TZAaua@https://www.kiga-schwanfeld.de/
DTSTAMP:20260425T102749Z
DESCRIPTION: https://www.kiga-schwanfeld.de/aktuelles/kalender/event/39-som
 merferien
DTSTART;VALUE=DATE:20240821
LOCATION:KiGa Schwanfeld (Adenauerpl. 8\, 97523 Schwanfeld\, Deutschland)
SUMMARY:Sommerferien 
URL:https://www.kiga-schwanfeld.de/aktuelles/kalender/event/39-sommerferien
END:VEVENT
BEGIN:VEVENT
UID:20260425T122749CEST-5437CjOAhd@https://www.kiga-schwanfeld.de/
DTSTAMP:20260425T102749Z
DESCRIPTION: https://www.kiga-schwanfeld.de/aktuelles/kalender/event/40-som
 merferien
DTSTART;VALUE=DATE:20240822
LOCATION:KiGa Schwanfeld (Adenauerpl. 8\, 97523 Schwanfeld\, Deutschland)
SUMMARY:Sommerferien 
URL:https://www.kiga-schwanfeld.de/aktuelles/kalender/event/40-sommerferien
END:VEVENT
BEGIN:VEVENT
UID:20260425T122749CEST-5438r8OwGI@https://www.kiga-schwanfeld.de/
DTSTAMP:20260425T102749Z
DESCRIPTION: https://www.kiga-schwanfeld.de/aktuelles/kalender/event/41-som
 merferien
DTSTART;VALUE=DATE:20240823
LOCATION:KiGa Schwanfeld (Adenauerpl. 8\, 97523 Schwanfeld\, Deutschland)
SUMMARY:Sommerferien 
URL:https://www.kiga-schwanfeld.de/aktuelles/kalender/event/41-sommerferien
END:VEVENT
END:VCALENDAR
