BEGIN:VCALENDAR
VERSION:2.0
PRODID:-//https://www.kiga-schwanfeld.de///NONSGML kigkonsult.se iCalcreator 2.10.15//
METHOD:PUBLISH
BEGIN:VEVENT
UID:20260419T203159CEST-69990ODKHu@https://www.kiga-schwanfeld.de/
DTSTAMP:20260419T183159Z
DESCRIPTION: https://www.kiga-schwanfeld.de/aktuelles/termine/event/42-somm
 erferien
DTSTART;VALUE=DATE:20240826
LOCATION:KiGa Schwanfeld (Adenauerpl. 8\, 97523 Schwanfeld\, Deutschland)
SUMMARY:Sommerferien 
URL:https://www.kiga-schwanfeld.de/aktuelles/termine/event/42-sommerferien
END:VEVENT
END:VCALENDAR
