BEGIN:VCALENDAR
VERSION:2.0
PRODID:-//https://www.kiga-schwanfeld.de///NONSGML kigkonsult.se iCalcreator 2.10.15//
METHOD:PUBLISH
BEGIN:VEVENT
UID:20260419T202612CEST-7097UWbL5I@https://www.kiga-schwanfeld.de/
DTSTAMP:20260419T182612Z
DESCRIPTION: https://www.kiga-schwanfeld.de/aktuelles/termine/event/45-somm
 erferien
DTSTART;VALUE=DATE:20240829
LOCATION:KiGa Schwanfeld (Adenauerpl. 8\, 97523 Schwanfeld\, Deutschland)
SUMMARY:Sommerferien 
URL:https://www.kiga-schwanfeld.de/aktuelles/termine/event/45-sommerferien
END:VEVENT
END:VCALENDAR
